BEGIN:VCALENDAR
VERSION:2.0
PRODID:-//Tukios.com/
BEGIN:VEVENT
UID:07aa1c30-0e86-4e45-9ad4-6204192d8270@www.pughfuneralhome.com
DTSTAMP:20260421T164300Z
DTSTART:20260423T173000Z
DTEND:20260423T183000Z
SUMMARY:Burial
DESCRIPTION:
URL:https://www.pughfuneralhome.com/obituaries/wyndham-ratliff
LOCATION: 4529 Moffitt Mill Rd  Ramseur NC 27316
GEO:35.6129124;-79.6566575
END:VEVENT
END:VCALENDAR