BEGIN:VCALENDAR
VERSION:2.0
PRODID:-//Tukios.com/
BEGIN:VEVENT
UID:1406d033-12e8-4dd7-a265-bfebecf07b41@www.pughfuneralhome.com
DTSTAMP:20260421T163930Z
DTSTART:20260423T160000Z
DTEND:20260423T170000Z
SUMMARY:Funeral Service
DESCRIPTION:
URL:https://www.pughfuneralhome.com/obituaries/wyndham-ratliff
LOCATION: 437 Sunset Ave.  Asheboro NC 27203
GEO:35.7055018;-79.8195694
END:VEVENT
END:VCALENDAR