BEGIN:VCALENDAR
VERSION:2.0
PRODID:-//Tukios.com/
BEGIN:VEVENT
UID:f10fa324-d112-48ae-bc1e-403f3b715a58@www.pughfuneralhome.com
DTSTAMP:20260421T163903Z
DTSTART:20260423T150000Z
DTEND:20260423T154500Z
SUMMARY:Visitation
DESCRIPTION:
URL:https://www.pughfuneralhome.com/obituaries/wyndham-ratliff
LOCATION: 437 Sunset Ave.  Asheboro NC 27203
GEO:35.7055018;-79.8195694
END:VEVENT
END:VCALENDAR