BEGIN:VCALENDAR
VERSION:2.0
PRODID:-//Tukios.com/
BEGIN:VEVENT
UID:911f7370-c176-4d75-bfe4-7ec50c71b154@www.pughfuneralhome.com
DTSTAMP:20260425T214013Z
DTSTART:20260428T180000Z
DTEND:20260428T190000Z
SUMMARY:Funeral Service
DESCRIPTION:
URL:https://www.pughfuneralhome.com/obituaries/ruth-green
LOCATION:Sophia Baptist Church 4082 Millikan Rd  Sophia NC 27350
GEO:35.8218236;-79.8589517
END:VEVENT
END:VCALENDAR