BEGIN:VCALENDAR
VERSION:2.0
PRODID:-//Tukios.com/
BEGIN:VEVENT
UID:0cfac42b-b229-46b0-adcf-aabc58646791@www.pughfuneralhome.com
DTSTAMP:20260425T214112Z
DTSTART:20260428T163000Z
DTEND:20260428T174500Z
SUMMARY:Visitation
DESCRIPTION:
URL:https://www.pughfuneralhome.com/obituaries/ruth-green
LOCATION:Sophia Baptist Church 4082 Millikan Rd  Sophia NC 27350
GEO:35.8218236;-79.8589517
END:VEVENT
END:VCALENDAR