BEGIN:VCALENDAR
VERSION:2.0
PRODID:-//Tukios.com/
BEGIN:VEVENT
UID:afae34bc-3e83-4512-af43-17a9f64e042c@www.pughfuneralhome.com
DTSTAMP:20260421T154800Z
DTSTART:20260423T193000Z
DTEND:20260423T203000Z
SUMMARY:Burial
DESCRIPTION:
URL:https://www.pughfuneralhome.com/obituaries/franklin-cecil
LOCATION: 10142 US Hwy 220 Business N  Randleman NC 27317
GEO:35.8865394;-79.8065236
END:VEVENT
END:VCALENDAR