BEGIN:VCALENDAR
VERSION:2.0
PRODID:-//Tukios.com/
BEGIN:VEVENT
UID:4f3f7350-3c88-4b51-bb0c-8eaab8419e10@www.pughfuneralhome.com
DTSTAMP:20260421T155232Z
DTSTART:20260423T180000Z
DTEND:20260423T190000Z
SUMMARY:Funeral Service
DESCRIPTION:
URL:https://www.pughfuneralhome.com/obituaries/franklin-cecil
LOCATION:Vision Baptist Church 215 NC-62  Randleman NC 27317
GEO:35.9210227;-79.8235075
END:VEVENT
END:VCALENDAR