BEGIN:VCALENDAR
VERSION:2.0
PRODID:-//Tukios.com/
BEGIN:VEVENT
UID:7ed67971-4821-4ff1-b41e-015d8a3225d9@www.pughfuneralhome.com
DTSTAMP:20260421T154831Z
DTSTART:20260423T170000Z
DTEND:20260423T174500Z
SUMMARY:Visitation
DESCRIPTION:
URL:https://www.pughfuneralhome.com/obituaries/franklin-cecil
LOCATION:Vision Baptist Church 215 NC-62  Randleman NC 27317
GEO:35.9210227;-79.8235075
END:VEVENT
END:VCALENDAR