BEGIN:VCALENDAR
VERSION:2.0
PRODID:-//Tukios.com/
BEGIN:VEVENT
UID:6ff14188-7f9c-4bb5-a4d5-e41adcfe66b5@www.pughfuneralhome.com
DTSTAMP:20260421T174834Z
DTSTART:20260427T180000Z
DTEND:20260427T190000Z
SUMMARY:Funeral Service
DESCRIPTION:
URL:https://www.pughfuneralhome.com/obituaries/craig-kerns
LOCATION:Union Grove Christian Church 3985 Old Nc Hwy 13  Asheboro NC 
	27205
GEO:35.6235875;-79.7099924
END:VEVENT
END:VCALENDAR